BEGIN:VCALENDAR
VERSION:2.0
PRODID:-//Squarespace Inc/Squarespace 6//v6//EN
BEGIN:VEVENT
UID:53316875e4b04a35310f5d3d@squarespace.com
DTSTAMP:20140325T113140Z
DTSTART:20140928T050000Z
DTEND:20140928T090000Z
SUMMARY:Hemoride100
GEO:49.62044;6.07039
LOCATION:Strassen
END:VEVENT
END:VCALENDAR
