BEGIN:VCALENDAR
VERSION:2.0
PRODID:-//Squarespace Inc/Squarespace 6//v6//EN
BEGIN:VEVENT
UID:53315633e4b0da26e76e6d41@squarespace.com
DTSTAMP:20140325T113952Z
DTSTART:20140921T053000Z
DTEND:20140921T083000Z
SUMMARY:Randonée VTT VC-Filano
GEO:49.783977;6.209995
LOCATION:Larochette\, Plateau Birkelt
END:VEVENT
END:VCALENDAR
