BEGIN:VCALENDAR
VERSION:2.0
PRODID:-//Squarespace Inc/Squarespace 6//v6//EN
BEGIN:VEVENT
UID:53a998bce4b051bcf3ff7c4b@squarespace.com
DTSTAMP:20140624T152939Z
DTSTART:20140706T060000Z
DTEND:20140706T080000Z
SUMMARY:Randonnée LNB
GEO:49.471949;6.076751
LOCATION:dudelange\, Rue Reiteschkopp\, Dudelange\, Luxembourg\, Luxembourg
END:VEVENT
END:VCALENDAR
