BEGIN:VCALENDAR
VERSION:2.0
PRODID:-//Squarespace Inc/Squarespace 6//v6//EN
BEGIN:VEVENT
UID:53a99a6be4b0d2f23b78e65d@squarespace.com
DTSTAMP:20140624T153858Z
DTSTART:20140720T110000Z
DTEND:20140720T153000Z
SUMMARY:Championnats nationaux VTT
GEO:49.134358;6.982955
LOCATION:baumbusch
END:VEVENT
END:VCALENDAR
