BEGIN:VCALENDAR
VERSION:2.0
PRODID:-//Squarespace Inc/Squarespace 6//v6//EN
BEGIN:VEVENT
UID:536b3836e4b0101647d4133c@squarespace.com
DTSTAMP:20140508T075702Z
DTSTART:20140518T080000Z
DTEND:20140518T090000Z
SUMMARY:ECORide
GEO:49.722359;6.129119
LOCATION:Lintgen
END:VEVENT
END:VCALENDAR
