BEGIN:VCALENDAR
VERSION:2.0
PRODID:-//Squarespace Inc/Squarespace 6//v6//EN
BEGIN:VEVENT
UID:536b3919e4b0af8b321ebbb1@squarespace.com
DTSTAMP:20140508T080025Z
DTSTART:20140529T060000Z
DTEND:20140529T080000Z
SUMMARY:Bididu Trail
GEO:49.73736;6.02383
LOCATION:Brouch
END:VEVENT
END:VCALENDAR
