BEGIN:VCALENDAR
VERSION:2.0
PRODID:-//Squarespace Inc/Squarespace 6//v6//EN
BEGIN:VEVENT
UID:536b3711e4b043cc087518c8@squarespace.com
DTSTAMP:20140508T075333Z
DTSTART:20140511T050000Z
DTEND:20140511T090000Z
SUMMARY:Aischdall-Bike
GEO:49.687571;5.913685
LOCATION:Hobscheid
END:VEVENT
END:VCALENDAR
