BEGIN:VCALENDAR
VERSION:2.0
PRODID:-//Squarespace Inc/Squarespace 6//v6//EN
BEGIN:VEVENT
UID:536b358be4b05c9aa1609812@squarespace.com
DTSTAMP:20140508T075743Z
DTSTART:20140510T100000Z
DTEND:20140510T200000Z
SUMMARY:Bike4Life
GEO:49.833542;6.006305
LOCATION:Bike4Life\, Mertzig
END:VEVENT
END:VCALENDAR
