BEGIN:VCALENDAR
VERSION:2.0
PRODID:-//Squarespace Inc/Squarespace 6//v6//EN
BEGIN:VEVENT
UID:53315bb9e4b05497c164a352@squarespace.com
DTSTAMP:20140325T110259Z
DTSTART:20140405T060000Z
DTEND:20140405T080000Z
SUMMARY:Tanja Wintersdorf
GEO:49.52182;5.93705
LOCATION:soleuvre
END:VEVENT
END:VCALENDAR
