BEGIN:VCALENDAR
VERSION:2.0
PRODID:-//Squarespace Inc/Squarespace 6//v6//EN
BEGIN:VEVENT
UID:53315ca7e4b03ace403e0c2b@squarespace.com
DTSTAMP:20140325T105729Z
DTSTART:20140427T060000Z
DTEND:20140427T080000Z
SUMMARY:Terre rouge
GEO:49.500881;5.986093
LOCATION:esch sur alzette
END:VEVENT
END:VCALENDAR
