BEGIN:VCALENDAR
VERSION:2.0
PRODID:-//Squarespace Inc/Squarespace 6//v6//EN
BEGIN:VEVENT
UID:533162a2e4b09e95e2e7d9f3@squarespace.com
DTSTAMP:20140325T111312Z
DTSTART:20140427T060000Z
DTEND:20140427T070000Z
SUMMARY:Mill-Man-Trail 2014
GEO:49.798837;6.413602
LOCATION:lac d'Echternach
END:VEVENT
END:VCALENDAR
